BEGIN:VCALENDAR
VERSION:2.0
PRODID:-//Astoria Hot Springs Park - ECPv6.15.13//NONSGML v1.0//EN
CALSCALE:GREGORIAN
METHOD:PUBLISH
X-ORIGINAL-URL:https://astoriahotspringspark.org
X-WR-CALDESC:Events for Astoria Hot Springs Park
REFRESH-INTERVAL;VALUE=DURATION:PT1H
X-Robots-Tag:noindex
X-PUBLISHED-TTL:PT1H
BEGIN:VTIMEZONE
TZID:UTC
BEGIN:STANDARD
TZOFFSETFROM:+0000
TZOFFSETTO:+0000
TZNAME:UTC
DTSTART:20230101T000000
END:STANDARD
END:VTIMEZONE
BEGIN:VEVENT
DTSTART;TZID=UTC:20240721T133000
DTEND;TZID=UTC:20240721T153000
DTSTAMP:20260424T120522
CREATED:20230410T205847Z
LAST-MODIFIED:20231204T192635Z
UID:2197-1721568600-1721575800@astoriahotspringspark.org
SUMMARY:Private Hot Springs Buyout
DESCRIPTION:Astoria Hot Springs will be closed to the public for a private event for this session! \nPlease get in touch with the Welcome Center with any questions\, 307-201-5925.
URL:https://astoriahotspringspark.org/event/private-hot-springs-buyout-3/2024-07-21/
CATEGORIES:Private Event
END:VEVENT
BEGIN:VEVENT
DTSTART;TZID=UTC:20240723T173000
DTEND;TZID=UTC:20240723T203000
DTSTAMP:20260424T120522
CREATED:20240123T165740Z
LAST-MODIFIED:20260421T010146Z
UID:2344-1721755800-1721766600@astoriahotspringspark.org
SUMMARY:Soiree at the Springs\, Astoria's Annual Benefit
DESCRIPTION:Save the date for Astoria’s annual fundraiser\, Soiree at the Springs \n5:30p-9:00p \nRiverside lawn at Astoria Park & Hot Springs \nDust off your boots and don your finest Western attire for an unforgettable evening along the Snake River. Soirée at the Springs is Astoria Park Conservancy’s signature summer fundraiser – bringing our community together to celebrate\, connect\, and support this special place. \nThe evening begins with a red carpet welcome and cocktails at the cabin\, followed by riverside mingling\, where you can try your hand at lassoing or simply soak in the scenery. Then\, gather under the tent for an elegant\, full-course dinner paired with wine and other thoughtfully crafted libations and western dancing. \nThis festive night supports Astoria’s mission to improve health and well-being by ensuring equitable\, year-round access to nature\, education\, and community for all. \nWestern formal attire encouraged – cowboy hats\, boots\, and a little flair welcome. \nClick here for more information and to purchase your ticket! \n 
URL:https://astoriahotspringspark.org/event/soiree-at-the-springs-astorias-annual-benefit-2/2024-07-23/
CATEGORIES:In the Cabin,Private Event
ATTACH;FMTTYPE=image/jpeg:https://astoriahotspringspark.org/wp-content/uploads/2024/01/event-lawn-with-tent-scaled.jpg
END:VEVENT
BEGIN:VEVENT
DTSTART;TZID=UTC:20240727T180000
DTEND;TZID=UTC:20240727T200000
DTSTAMP:20260424T120522
CREATED:20231204T204951Z
LAST-MODIFIED:20260414T201848Z
UID:2976-1722103200-1722110400@astoriahotspringspark.org
SUMMARY:Private River Pool Rental
DESCRIPTION:There will be a private River Pool Rental today! This session is open to the public to enjoy five pools. The river pool and river view deck will be closed due to a private event. \nFor questions\, please call the welcome center at 307-201-5925.
URL:https://astoriahotspringspark.org/event/river-pool-rental-5/2024-07-27/
CATEGORIES:Location: In the Pool,Private Event
END:VEVENT
BEGIN:VEVENT
DTSTART;TZID=UTC:20240804T133000
DTEND;TZID=UTC:20240804T153000
DTSTAMP:20260424T120522
CREATED:20230410T205847Z
LAST-MODIFIED:20231204T192639Z
UID:2198-1722778200-1722785400@astoriahotspringspark.org
SUMMARY:Private Hot Springs Buyout
DESCRIPTION:Astoria Hot Springs will be closed to the public for a private event for this session! \nPlease get in touch with the Welcome Center with any questions\, 307-201-5925.
URL:https://astoriahotspringspark.org/event/private-hot-springs-buyout-3/2024-08-04/
CATEGORIES:Private Event
END:VEVENT
BEGIN:VEVENT
DTSTART;TZID=UTC:20240806T180000
DTEND;TZID=UTC:20240806T200000
DTSTAMP:20260424T120522
CREATED:20231204T192800Z
LAST-MODIFIED:20260318T192015Z
UID:3048-1722967200-1722974400@astoriahotspringspark.org
SUMMARY:PRIVATE HOT SPRINGS BUYOUT
DESCRIPTION:Astoria Hot Springs will be closed to the public for a private event for this session! \nPlease call the Welcome Center with any questions\, 307-201-5925. \n*The Hot Springs is also closed to members during private buyouts. Please plan accordingly to attend another session on this day! *
URL:https://astoriahotspringspark.org/event/private-hot-springs-buyout-5/2024-08-06/
CATEGORIES:Location: In the Pool,Private Event
END:VEVENT
BEGIN:VEVENT
DTSTART;TZID=UTC:20240812T154500
DTEND;TZID=UTC:20240812T174500
DTSTAMP:20260424T120522
CREATED:20231204T192800Z
LAST-MODIFIED:20260318T192016Z
UID:2986-1723477500-1723484700@astoriahotspringspark.org
SUMMARY:PRIVATE HOT SPRINGS BUYOUT
DESCRIPTION:Astoria Hot Springs will be closed to the public for a private event for this session! \nPlease call the Welcome Center with any questions\, 307-201-5925. \n*The Hot Springs is also closed to members during private buyouts. Please plan accordingly to attend another session on this day! *
URL:https://astoriahotspringspark.org/event/private-hot-springs-buyout-5/2024-08-12/
CATEGORIES:Location: In the Pool,Private Event
END:VEVENT
BEGIN:VEVENT
DTSTART;TZID=UTC:20240818T133000
DTEND;TZID=UTC:20240818T153000
DTSTAMP:20260424T120522
CREATED:20230410T205847Z
LAST-MODIFIED:20231204T192639Z
UID:2199-1723987800-1723995000@astoriahotspringspark.org
SUMMARY:Private Hot Springs Buyout
DESCRIPTION:Astoria Hot Springs will be closed to the public for a private event for this session! \nPlease get in touch with the Welcome Center with any questions\, 307-201-5925.
URL:https://astoriahotspringspark.org/event/private-hot-springs-buyout-3/2024-08-18/
CATEGORIES:Private Event
END:VEVENT
BEGIN:VEVENT
DTSTART;TZID=UTC:20240901T133000
DTEND;TZID=UTC:20240901T153000
DTSTAMP:20260424T120522
CREATED:20230410T205847Z
LAST-MODIFIED:20231204T192640Z
UID:2200-1725197400-1725204600@astoriahotspringspark.org
SUMMARY:Private Hot Springs Buyout
DESCRIPTION:Astoria Hot Springs will be closed to the public for a private event for this session! \nPlease get in touch with the Welcome Center with any questions\, 307-201-5925.
URL:https://astoriahotspringspark.org/event/private-hot-springs-buyout-3/2024-09-01/
CATEGORIES:Private Event
END:VEVENT
BEGIN:VEVENT
DTSTART;TZID=UTC:20240908T150000
DTEND;TZID=UTC:20240908T164500
DTSTAMP:20260424T120522
CREATED:20230815T032742Z
LAST-MODIFIED:20250610T155126Z
UID:3049-1725807600-1725813900@astoriahotspringspark.org
SUMMARY:Picnic Pavilion Rental
DESCRIPTION:Private Picnic Pavilion rental today! All pools are open to the public\, but a private event will occur under our picnic pavilion in the hot springs. Please expect a busier environment at the upper pools!
URL:https://astoriahotspringspark.org/event/picnic-pavilion-rental-9/2024-09-08/
CATEGORIES:Private Event
END:VEVENT
BEGIN:VEVENT
DTSTART;TZID=UTC:20240912T150000
DTEND;TZID=UTC:20240912T164500
DTSTAMP:20260424T120522
CREATED:20231204T204951Z
LAST-MODIFIED:20260414T201848Z
UID:3090-1726153200-1726159500@astoriahotspringspark.org
SUMMARY:Private River Pool Rental
DESCRIPTION:There will be a private River Pool Rental today! This session is open to the public to enjoy five pools. The river pool and river view deck will be closed due to a private event. \nFor questions\, please call the welcome center at 307-201-5925.
URL:https://astoriahotspringspark.org/event/river-pool-rental-5/2024-09-12/
CATEGORIES:Location: In the Pool,Private Event
END:VEVENT
BEGIN:VEVENT
DTSTART;TZID=UTC:20240915T133000
DTEND;TZID=UTC:20240915T153000
DTSTAMP:20260424T120522
CREATED:20230410T205847Z
LAST-MODIFIED:20231204T192640Z
UID:2201-1726407000-1726414200@astoriahotspringspark.org
SUMMARY:Private Hot Springs Buyout
DESCRIPTION:Astoria Hot Springs will be closed to the public for a private event for this session! \nPlease get in touch with the Welcome Center with any questions\, 307-201-5925.
URL:https://astoriahotspringspark.org/event/private-hot-springs-buyout-3/2024-09-15/
CATEGORIES:Private Event
END:VEVENT
BEGIN:VEVENT
DTSTART;TZID=UTC:20240916T170000
DTEND;TZID=UTC:20240916T190000
DTSTAMP:20260424T120522
CREATED:20231204T192800Z
LAST-MODIFIED:20260318T192016Z
UID:3079-1726506000-1726513200@astoriahotspringspark.org
SUMMARY:PRIVATE HOT SPRINGS BUYOUT
DESCRIPTION:Astoria Hot Springs will be closed to the public for a private event for this session! \nPlease call the Welcome Center with any questions\, 307-201-5925. \n*The Hot Springs is also closed to members during private buyouts. Please plan accordingly to attend another session on this day! *
URL:https://astoriahotspringspark.org/event/private-hot-springs-buyout-5/2024-09-16/
CATEGORIES:Location: In the Pool,Private Event
END:VEVENT
BEGIN:VEVENT
DTSTART;TZID=UTC:20240922T150000
DTEND;TZID=UTC:20240922T164500
DTSTAMP:20260424T120522
CREATED:20230815T032742Z
LAST-MODIFIED:20250610T155126Z
UID:3093-1727017200-1727023500@astoriahotspringspark.org
SUMMARY:Picnic Pavilion Rental
DESCRIPTION:Private Picnic Pavilion rental today! All pools are open to the public\, but a private event will occur under our picnic pavilion in the hot springs. Please expect a busier environment at the upper pools!
URL:https://astoriahotspringspark.org/event/picnic-pavilion-rental-9/2024-09-22/
CATEGORIES:Private Event
END:VEVENT
BEGIN:VEVENT
DTSTART;TZID=UTC:20241006T110000
DTEND;TZID=UTC:20241006T124500
DTSTAMP:20260424T120522
CREATED:20230815T032742Z
LAST-MODIFIED:20250610T155126Z
UID:3083-1728212400-1728218700@astoriahotspringspark.org
SUMMARY:Picnic Pavilion Rental
DESCRIPTION:Private Picnic Pavilion rental today! All pools are open to the public\, but a private event will occur under our picnic pavilion in the hot springs. Please expect a busier environment at the upper pools!
URL:https://astoriahotspringspark.org/event/picnic-pavilion-rental-9/2024-10-06/
CATEGORIES:Private Event
END:VEVENT
BEGIN:VEVENT
DTSTART;TZID=UTC:20241019T083000
DTEND;TZID=UTC:20241019T170000
DTSTAMP:20260424T120522
CREATED:20240814T163848Z
LAST-MODIFIED:20241017T182712Z
UID:3061-1729326600-1729357200@astoriahotspringspark.org
SUMMARY:Astoria Wellness Retreat
DESCRIPTION:Wellness Retreat at Astoria Park\nSaturday\, October 19th  \nReset and refresh at Astoria’s one-of-a-kind wellness retreats. Dive deep into your physical and emotional health through relaxation\, connection\, movement\, and education. Connect to nature in our mineral-rich waters and participate in various enrichment activities to increase healing and wellness at Astoria. The retreat is dedicated to embracing activities that help you maintain balance and harmony. \n$200 per ticket \nSave 10% off now\, if you email carolyn@astoriapark.org to sign up! \nPrice includes a full day of expert-led wellness activities\, healthy snacks\, lunch\, refreshments\, swag\, hot spring soaks\, and a unique experience only found at Astoria!  \n8:30a Cacao Ceremony/Heart Opening Meditation & River Pool Soak\n10:30a Refuel with a healthy snack\, change and regroup\n11a Integrative Breathwork\n12:30p Enjoy a delicious\, nutritious lunch\n1:15p Guided walk to the Medicine Wheel\n2:15p Introduction to Contrast Therapies & Journaling\n3:45p Contrast Therapy Soak\n5:00p Harvest Elixir\, Closing & Fire Ceremony
URL:https://astoriahotspringspark.org/event/astoria-wellness-retreat/
CATEGORIES:In the Cabin,Location: In the Pool,Private Event,Wellness
ATTACH;FMTTYPE=image/png:https://astoriahotspringspark.org/wp-content/uploads/2024/08/wellness-Instagram-Post.png
END:VEVENT
BEGIN:VEVENT
DTSTART;TZID=UTC:20241206T150000
DTEND;TZID=UTC:20241206T164500
DTSTAMP:20260424T120522
CREATED:20231204T204951Z
LAST-MODIFIED:20260414T201848Z
UID:3211-1733497200-1733503500@astoriahotspringspark.org
SUMMARY:Private River Pool Rental
DESCRIPTION:There will be a private River Pool Rental today! This session is open to the public to enjoy five pools. The river pool and river view deck will be closed due to a private event. \nFor questions\, please call the welcome center at 307-201-5925.
URL:https://astoriahotspringspark.org/event/river-pool-rental-5/2024-12-06/
CATEGORIES:Location: In the Pool,Private Event
END:VEVENT
BEGIN:VEVENT
DTSTART;TZID=UTC:20241207T150000
DTEND;TZID=UTC:20241207T164500
DTSTAMP:20260424T120522
CREATED:20231204T192800Z
LAST-MODIFIED:20260318T192016Z
UID:3117-1733583600-1733589900@astoriahotspringspark.org
SUMMARY:PRIVATE HOT SPRINGS BUYOUT
DESCRIPTION:Astoria Hot Springs will be closed to the public for a private event for this session! \nPlease call the Welcome Center with any questions\, 307-201-5925. \n*The Hot Springs is also closed to members during private buyouts. Please plan accordingly to attend another session on this day! *
URL:https://astoriahotspringspark.org/event/private-hot-springs-buyout-5/2024-12-07/
CATEGORIES:Location: In the Pool,Private Event
END:VEVENT
BEGIN:VEVENT
DTSTART;TZID=UTC:20241221T130000
DTEND;TZID=UTC:20241221T144500
DTSTAMP:20260424T120522
CREATED:20231204T204951Z
LAST-MODIFIED:20260414T201848Z
UID:3304-1734786000-1734792300@astoriahotspringspark.org
SUMMARY:Private River Pool Rental
DESCRIPTION:There will be a private River Pool Rental today! This session is open to the public to enjoy five pools. The river pool and river view deck will be closed due to a private event. \nFor questions\, please call the welcome center at 307-201-5925.
URL:https://astoriahotspringspark.org/event/river-pool-rental-5/2024-12-21/
CATEGORIES:Location: In the Pool,Private Event
END:VEVENT
BEGIN:VEVENT
DTSTART;TZID=UTC:20250106T110000
DTEND;TZID=UTC:20250106T124500
DTSTAMP:20260424T120522
CREATED:20231204T204951Z
LAST-MODIFIED:20260414T201849Z
UID:3301-1736161200-1736167500@astoriahotspringspark.org
SUMMARY:Private River Pool Rental
DESCRIPTION:There will be a private River Pool Rental today! This session is open to the public to enjoy five pools. The river pool and river view deck will be closed due to a private event. \nFor questions\, please call the welcome center at 307-201-5925.
URL:https://astoriahotspringspark.org/event/river-pool-rental-5/2025-01-06/
CATEGORIES:Location: In the Pool,Private Event
END:VEVENT
BEGIN:VEVENT
DTSTART;TZID=UTC:20250130T150000
DTEND;TZID=UTC:20250130T164500
DTSTAMP:20260424T120522
CREATED:20231204T204951Z
LAST-MODIFIED:20260414T201854Z
UID:3358-1738249200-1738255500@astoriahotspringspark.org
SUMMARY:Private River Pool Rental
DESCRIPTION:There will be a private River Pool Rental today! This session is open to the public to enjoy five pools. The river pool and river view deck will be closed due to a private event. \nFor questions\, please call the welcome center at 307-201-5925.
URL:https://astoriahotspringspark.org/event/river-pool-rental-5/2025-01-30/
CATEGORIES:Location: In the Pool,Private Event
END:VEVENT
BEGIN:VEVENT
DTSTART;TZID=UTC:20250207T130000
DTEND;TZID=UTC:20250207T144500
DTSTAMP:20260424T120522
CREATED:20231204T204951Z
LAST-MODIFIED:20260414T201854Z
UID:3360-1738933200-1738939500@astoriahotspringspark.org
SUMMARY:Private River Pool Rental
DESCRIPTION:There will be a private River Pool Rental today! This session is open to the public to enjoy five pools. The river pool and river view deck will be closed due to a private event. \nFor questions\, please call the welcome center at 307-201-5925.
URL:https://astoriahotspringspark.org/event/river-pool-rental-5/2025-02-07/
CATEGORIES:Location: In the Pool,Private Event
END:VEVENT
BEGIN:VEVENT
DTSTART;TZID=UTC:20250209T090000
DTEND;TZID=UTC:20250209T124500
DTSTAMP:20260424T120522
CREATED:20250103T210918Z
LAST-MODIFIED:20250113T191401Z
UID:3313-1739091600-1739105100@astoriahotspringspark.org
SUMMARY:Frontline Resilience Program
DESCRIPTION:Astoria’s Frontline Resilience Series is designed to build social support and increase resilience for our frontline heroes. \nCritical Service Providers are the true backbone of this community\, continuing to provide 24-hour support and services to our most vulnerable members. With a mission to connect the community through inspiring experiences in nature that improve livability\, health\, and well-being\, we offer monthly complimentary programs to over 20 partnering organizations that provide essential services. \nA soothing soak in Astoria Hot Springs can help counteract stress\, increase relaxation\, and reduce anxiety. Time spent at Astoria fosters healthier and happier individuals and a more broadly connected community. \n*The program with Matt Daly from JH Writers has been postponed\, in it’s place Astoria is excited to offer: \nTWO Complimentary POP-UP Soaks! We will hold 20 spots in our 9am-10:45am and 11a-12:45pm for essential services workers. The first 20 people to email and sign up will secure their free soak!\nREGISTER FOR FREE SOAK: CAROLYN@ASTORIAPARK.ORG \n*Email your name\, place of work\, and position. This program is EXCLUSIVELY FOR CRITICAL SERVICE PROVIDERS! \n*Astoria has partnered with over 20 organizations\, including the Human Service Council and Emergency Service Organizations. If you do not receive flyers through your employment and consider yourself a critical service provider\, email carolyn@astoriapark.org for more information.
URL:https://astoriahotspringspark.org/event/frontline-resilience-program-2/
CATEGORIES:In the Cabin,Location: In the Pool,Private Event,Wellness
END:VEVENT
BEGIN:VEVENT
DTSTART;TZID=UTC:20250223T090000
DTEND;TZID=UTC:20250223T224500
DTSTAMP:20260424T120522
CREATED:20231204T204951Z
LAST-MODIFIED:20260414T201854Z
UID:3379-1740301200-1740350700@astoriahotspringspark.org
SUMMARY:Private River Pool Rental
DESCRIPTION:There will be a private River Pool Rental today! This session is open to the public to enjoy five pools. The river pool and river view deck will be closed due to a private event. \nFor questions\, please call the welcome center at 307-201-5925.
URL:https://astoriahotspringspark.org/event/river-pool-rental-5/2025-02-23/
CATEGORIES:Location: In the Pool,Private Event
END:VEVENT
BEGIN:VEVENT
DTSTART;TZID=UTC:20250223T140000
DTEND;TZID=UTC:20250223T153000
DTSTAMP:20260424T120522
CREATED:20231204T204951Z
LAST-MODIFIED:20260414T201855Z
UID:3380-1740319200-1740324600@astoriahotspringspark.org
SUMMARY:Private River Pool Rental
DESCRIPTION:There will be a private River Pool Rental today! This session is open to the public to enjoy five pools. The river pool and river view deck will be closed due to a private event. \nFor questions\, please call the welcome center at 307-201-5925.
URL:https://astoriahotspringspark.org/event/river-pool-rental-5/2025-02-23/2/
CATEGORIES:Location: In the Pool,Private Event
END:VEVENT
BEGIN:VEVENT
DTSTART;TZID=UTC:20250307T150000
DTEND;TZID=UTC:20250307T164500
DTSTAMP:20260424T120522
CREATED:20231204T204951Z
LAST-MODIFIED:20260414T201855Z
UID:3240-1741359600-1741365900@astoriahotspringspark.org
SUMMARY:Private River Pool Rental
DESCRIPTION:There will be a private River Pool Rental today! This session is open to the public to enjoy five pools. The river pool and river view deck will be closed due to a private event. \nFor questions\, please call the welcome center at 307-201-5925.
URL:https://astoriahotspringspark.org/event/river-pool-rental-5/2025-03-07/
CATEGORIES:Location: In the Pool,Private Event
END:VEVENT
BEGIN:VEVENT
DTSTART;TZID=UTC:20250308T150000
DTEND;TZID=UTC:20250308T164500
DTSTAMP:20260424T120522
CREATED:20231204T204951Z
LAST-MODIFIED:20260414T201855Z
UID:3355-1741446000-1741452300@astoriahotspringspark.org
SUMMARY:Private River Pool Rental
DESCRIPTION:There will be a private River Pool Rental today! This session is open to the public to enjoy five pools. The river pool and river view deck will be closed due to a private event. \nFor questions\, please call the welcome center at 307-201-5925.
URL:https://astoriahotspringspark.org/event/river-pool-rental-5/2025-03-08/
CATEGORIES:Location: In the Pool,Private Event
END:VEVENT
BEGIN:VEVENT
DTSTART;TZID=UTC:20250403T110000
DTEND;TZID=UTC:20250403T124500
DTSTAMP:20260424T120522
CREATED:20231204T204951Z
LAST-MODIFIED:20231204T204951Z
UID:5508-1743678000-1743684300@astoriahotspringspark.org
SUMMARY:Private River Pool Rental
DESCRIPTION:There will be a private River Pool Rental today! This session is open to the public to enjoy five pools. The river pool and river view deck will be closed due to a private event. \nFor questions\, please call the welcome center at 307-201-5925.
URL:https://astoriahotspringspark.org/event/river-pool-rental-5/2025-04-03/
CATEGORIES:Location: In the Pool,Private Event
END:VEVENT
BEGIN:VEVENT
DTSTART;TZID=UTC:20250403T180000
DTEND;TZID=UTC:20250403T200000
DTSTAMP:20260424T120522
CREATED:20231204T192800Z
LAST-MODIFIED:20260318T192016Z
UID:3870-1743703200-1743710400@astoriahotspringspark.org
SUMMARY:PRIVATE HOT SPRINGS BUYOUT
DESCRIPTION:Astoria Hot Springs will be closed to the public for a private event for this session! \nPlease call the Welcome Center with any questions\, 307-201-5925. \n*The Hot Springs is also closed to members during private buyouts. Please plan accordingly to attend another session on this day! *
URL:https://astoriahotspringspark.org/event/private-hot-springs-buyout-5/2025-04-03/
CATEGORIES:Location: In the Pool,Private Event
END:VEVENT
BEGIN:VEVENT
DTSTART;TZID=UTC:20250410T090000
DTEND;TZID=UTC:20250410T110000
DTSTAMP:20260424T120522
CREATED:20231204T192800Z
LAST-MODIFIED:20260318T192021Z
UID:3946-1744275600-1744282800@astoriahotspringspark.org
SUMMARY:PRIVATE HOT SPRINGS BUYOUT
DESCRIPTION:Astoria Hot Springs will be closed to the public for a private event for this session! \nPlease call the Welcome Center with any questions\, 307-201-5925. \n*The Hot Springs is also closed to members during private buyouts. Please plan accordingly to attend another session on this day! *
URL:https://astoriahotspringspark.org/event/private-hot-springs-buyout-5/2025-04-10/
CATEGORIES:Location: In the Pool,Private Event
END:VEVENT
BEGIN:VEVENT
DTSTART;TZID=UTC:20250503T133000
DTEND;TZID=UTC:20250503T153000
DTSTAMP:20260424T120522
CREATED:20231204T204951Z
LAST-MODIFIED:20260414T201855Z
UID:3864-1746279000-1746286200@astoriahotspringspark.org
SUMMARY:Private River Pool Rental
DESCRIPTION:There will be a private River Pool Rental today! This session is open to the public to enjoy five pools. The river pool and river view deck will be closed due to a private event. \nFor questions\, please call the welcome center at 307-201-5925.
URL:https://astoriahotspringspark.org/event/river-pool-rental-5/2025-05-03/
CATEGORIES:Location: In the Pool,Private Event
END:VEVENT
END:VCALENDAR