BEGIN:VCALENDAR
VERSION:2.0
PRODID:-//Astoria Hot Springs Park - ECPv6.15.13//NONSGML v1.0//EN
CALSCALE:GREGORIAN
METHOD:PUBLISH
X-WR-CALNAME:Astoria Hot Springs Park
X-ORIGINAL-URL:https://astoriahotspringspark.org
X-WR-CALDESC:Events for Astoria Hot Springs Park
REFRESH-INTERVAL;VALUE=DURATION:PT1H
X-Robots-Tag:noindex
X-PUBLISHED-TTL:PT1H
BEGIN:VTIMEZONE
TZID:UTC
BEGIN:STANDARD
TZOFFSETFROM:+0000
TZOFFSETTO:+0000
TZNAME:UTC
DTSTART:20240101T000000
END:STANDARD
END:VTIMEZONE
BEGIN:VEVENT
DTSTART;TZID=UTC:20260419T154500
DTEND;TZID=UTC:20260419T174500
DTSTAMP:20260422T103616
CREATED:20260414T170243Z
LAST-MODIFIED:20260414T174010Z
UID:5506-1776613500-1776620700@astoriahotspringspark.org
SUMMARY:CAMPFIRE
DESCRIPTION:CAMPFIRE Presents: Sound Healing + with Daniela Botur \nApril 19 | 3:45 pm – 5:45 pm at Astoria HotSprings \nFREE AND OPEN TO THE PUBLIC (16+) \nREGISTRATION REQUIRED \nHarness the healing power of sound & water … \nSurrounded by the beauty of the Snake River and the natural landscape of Astoria\, this experience blends the healing power of sound and vibrational energy with the soothing thermal waters of Astoria’s soaking pools. \nEverything in the universe carries a frequency—including our thoughts\, emotions\, and physical bodies. Sound healing works with these natural vibrations to help restore balance\, calm the nervous system\, and support a more uplifted state of mind and wellbeing. Daniela will guide participants through a 30-minute sound bath featuring crystal singing bowls\, gongs\, and other vibrational instruments\, creating a deeply meditative environment where sound and water together enhance relaxation and renewal. \nThe event will also include a 10–15 minute discussion about vibrational energy and the many tools we can use—through sound\, intention\, and other modalities—to shift our energy and cultivate greater balance and wellbeing. The afternoon will conclude with 10 minutes for questions and conversation — all hosted within the healing environment of the pools themselves (prepare to soak!). \nDETAILS: The organized portion of the program will be held from 4:00 PM – 5:15 PM. Please plan to arrive by 3:45 check-in\, and bring a bathing suit\, towel\, and water bottle. Snacks will be provided\, and alcoholic beverages will be available to purchase on-site. Participants are welcome to bring their own snacks and non-alcoholic beverages; and anyone interested in soaking longer and continuing the conversation is welcome to sign up for an additional session (6:00 PM – 8:00 PM window) via the Astoria website. \n  \nLINK FOR MORE INFORMATION AND TO SIGN UP!
URL:https://astoriahotspringspark.org/event/campfire-2/
CATEGORIES:Location: In the Pool,Private Event,Wellness
ATTACH;FMTTYPE=image/png:https://astoriahotspringspark.org/wp-content/uploads/2026/04/CAMPFIRE-Daniela-Astoria.png
END:VEVENT
BEGIN:VEVENT
DTSTART;TZID=UTC:20260419T154500
DTEND;TZID=UTC:20260419T174500
DTSTAMP:20260422T103616
CREATED:20231204T192800Z
LAST-MODIFIED:20260318T192023Z
UID:5396-1776613500-1776620700@astoriahotspringspark.org
SUMMARY:PRIVATE HOT SPRINGS BUYOUT
DESCRIPTION:Astoria Hot Springs will be closed to the public for a private event for this session! \nPlease call the Welcome Center with any questions\, 307-201-5925. \n*The Hot Springs is also closed to members during private buyouts. Please plan accordingly to attend another session on this day! *
URL:https://astoriahotspringspark.org/event/private-hot-springs-buyout-5/2026-04-19/
CATEGORIES:Location: In the Pool,Private Event
END:VEVENT
BEGIN:VEVENT
DTSTART;TZID=UTC:20260409T180000
DTEND;TZID=UTC:20260409T200000
DTSTAMP:20260422T103616
CREATED:20250524T173354Z
LAST-MODIFIED:20260421T191734Z
UID:5492-1775757600-1775764800@astoriahotspringspark.org
SUMMARY:Picnic Pavilion Rental
DESCRIPTION:Private Picnic Pavilion rental today! All pools are open to the public\, but a private event will occur under our picnic pavilion in the hot springs. Please expect a busier environment at the upper pools!
URL:https://astoriahotspringspark.org/event/picnic-pavilion-rental-10/2026-04-09/
CATEGORIES:Location: In the Pool,Private Event
END:VEVENT
BEGIN:VEVENT
DTSTART;TZID=UTC:20260403T110000
DTEND;TZID=UTC:20260403T124500
DTSTAMP:20260422T103616
CREATED:20231204T204951Z
LAST-MODIFIED:20231204T204951Z
UID:5509-1775214000-1775220300@astoriahotspringspark.org
SUMMARY:Private River Pool Rental
DESCRIPTION:There will be a private River Pool Rental today! This session is open to the public to enjoy five pools. The river pool and river view deck will be closed due to a private event. \nFor questions\, please call the welcome center at 307-201-5925.
URL:https://astoriahotspringspark.org/event/river-pool-rental-5/2026-04-03/
CATEGORIES:Location: In the Pool,Private Event
END:VEVENT
BEGIN:VEVENT
DTSTART;TZID=UTC:20260326T130000
DTEND;TZID=UTC:20260326T144500
DTSTAMP:20260422T103616
CREATED:20231204T204951Z
LAST-MODIFIED:20260414T201900Z
UID:5321-1774530000-1774536300@astoriahotspringspark.org
SUMMARY:Private River Pool Rental
DESCRIPTION:There will be a private River Pool Rental today! This session is open to the public to enjoy five pools. The river pool and river view deck will be closed due to a private event. \nFor questions\, please call the welcome center at 307-201-5925.
URL:https://astoriahotspringspark.org/event/river-pool-rental-5/2026-03-26/
CATEGORIES:Location: In the Pool,Private Event
END:VEVENT
BEGIN:VEVENT
DTSTART;TZID=UTC:20260321T110000
DTEND;TZID=UTC:20260321T124500
DTSTAMP:20260422T103616
CREATED:20231204T204951Z
LAST-MODIFIED:20260414T201900Z
UID:5349-1774090800-1774097100@astoriahotspringspark.org
SUMMARY:Private River Pool Rental
DESCRIPTION:There will be a private River Pool Rental today! This session is open to the public to enjoy five pools. The river pool and river view deck will be closed due to a private event. \nFor questions\, please call the welcome center at 307-201-5925.
URL:https://astoriahotspringspark.org/event/river-pool-rental-5/2026-03-21/
CATEGORIES:Location: In the Pool,Private Event
END:VEVENT
BEGIN:VEVENT
DTSTART;TZID=UTC:20260307T150000
DTEND;TZID=UTC:20260307T164500
DTSTAMP:20260422T103616
CREATED:20231204T204951Z
LAST-MODIFIED:20260414T201900Z
UID:5342-1772895600-1772901900@astoriahotspringspark.org
SUMMARY:Private River Pool Rental
DESCRIPTION:There will be a private River Pool Rental today! This session is open to the public to enjoy five pools. The river pool and river view deck will be closed due to a private event. \nFor questions\, please call the welcome center at 307-201-5925.
URL:https://astoriahotspringspark.org/event/river-pool-rental-5/2026-03-07/
CATEGORIES:Location: In the Pool,Private Event
END:VEVENT
BEGIN:VEVENT
DTSTART;TZID=UTC:20260307T130000
DTEND;TZID=UTC:20260307T144500
DTSTAMP:20260422T103616
CREATED:20231204T192800Z
LAST-MODIFIED:20260318T192023Z
UID:5389-1772888400-1772894700@astoriahotspringspark.org
SUMMARY:PRIVATE HOT SPRINGS BUYOUT
DESCRIPTION:Astoria Hot Springs will be closed to the public for a private event for this session! \nPlease call the Welcome Center with any questions\, 307-201-5925. \n*The Hot Springs is also closed to members during private buyouts. Please plan accordingly to attend another session on this day! *
URL:https://astoriahotspringspark.org/event/private-hot-springs-buyout-5/2026-03-07/
CATEGORIES:Location: In the Pool,Private Event
END:VEVENT
BEGIN:VEVENT
DTSTART;TZID=UTC:20260221T110000
DTEND;TZID=UTC:20260221T120000
DTSTAMP:20260422T103616
CREATED:20231204T204951Z
LAST-MODIFIED:20260414T201859Z
UID:5320-1771671600-1771675200@astoriahotspringspark.org
SUMMARY:Private River Pool Rental
DESCRIPTION:There will be a private River Pool Rental today! This session is open to the public to enjoy five pools. The river pool and river view deck will be closed due to a private event. \nFor questions\, please call the welcome center at 307-201-5925.
URL:https://astoriahotspringspark.org/event/river-pool-rental-5/2026-02-21/
CATEGORIES:Location: In the Pool,Private Event
END:VEVENT
BEGIN:VEVENT
DTSTART;TZID=UTC:20260213T130000
DTEND;TZID=UTC:20260213T144500
DTSTAMP:20260422T103616
CREATED:20231204T204951Z
LAST-MODIFIED:20260414T201859Z
UID:4447-1770987600-1770993900@astoriahotspringspark.org
SUMMARY:Private River Pool Rental
DESCRIPTION:There will be a private River Pool Rental today! This session is open to the public to enjoy five pools. The river pool and river view deck will be closed due to a private event. \nFor questions\, please call the welcome center at 307-201-5925.
URL:https://astoriahotspringspark.org/event/river-pool-rental-5/2026-02-13/
CATEGORIES:Location: In the Pool,Private Event
END:VEVENT
BEGIN:VEVENT
DTSTART;TZID=UTC:20260207T110000
DTEND;TZID=UTC:20260207T124500
DTSTAMP:20260422T103616
CREATED:20231204T204951Z
LAST-MODIFIED:20260414T201859Z
UID:4347-1770462000-1770468300@astoriahotspringspark.org
SUMMARY:Private River Pool Rental
DESCRIPTION:There will be a private River Pool Rental today! This session is open to the public to enjoy five pools. The river pool and river view deck will be closed due to a private event. \nFor questions\, please call the welcome center at 307-201-5925.
URL:https://astoriahotspringspark.org/event/river-pool-rental-5/2026-02-07/
CATEGORIES:Location: In the Pool,Private Event
END:VEVENT
BEGIN:VEVENT
DTSTART;TZID=UTC:20260118T130000
DTEND;TZID=UTC:20260118T144500
DTSTAMP:20260422T103616
CREATED:20231204T204951Z
LAST-MODIFIED:20260414T201858Z
UID:5210-1768741200-1768747500@astoriahotspringspark.org
SUMMARY:Private River Pool Rental
DESCRIPTION:There will be a private River Pool Rental today! This session is open to the public to enjoy five pools. The river pool and river view deck will be closed due to a private event. \nFor questions\, please call the welcome center at 307-201-5925.
URL:https://astoriahotspringspark.org/event/river-pool-rental-5/2026-01-18/
CATEGORIES:Location: In the Pool,Private Event
END:VEVENT
BEGIN:VEVENT
DTSTART;TZID=UTC:20251211T130000
DTEND;TZID=UTC:20251211T144500
DTSTAMP:20260422T103616
CREATED:20231204T204951Z
LAST-MODIFIED:20260414T201858Z
UID:5229-1765458000-1765464300@astoriahotspringspark.org
SUMMARY:Private River Pool Rental
DESCRIPTION:There will be a private River Pool Rental today! This session is open to the public to enjoy five pools. The river pool and river view deck will be closed due to a private event. \nFor questions\, please call the welcome center at 307-201-5925.
URL:https://astoriahotspringspark.org/event/river-pool-rental-5/2025-12-11/
CATEGORIES:Location: In the Pool,Private Event
END:VEVENT
BEGIN:VEVENT
DTSTART;TZID=UTC:20251206T130000
DTEND;TZID=UTC:20251206T144500
DTSTAMP:20260422T103616
CREATED:20250524T173354Z
LAST-MODIFIED:20260421T191734Z
UID:5235-1765026000-1765032300@astoriahotspringspark.org
SUMMARY:Picnic Pavilion Rental
DESCRIPTION:Private Picnic Pavilion rental today! All pools are open to the public\, but a private event will occur under our picnic pavilion in the hot springs. Please expect a busier environment at the upper pools!
URL:https://astoriahotspringspark.org/event/picnic-pavilion-rental-10/2025-12-06/
CATEGORIES:Location: In the Pool,Private Event
END:VEVENT
BEGIN:VEVENT
DTSTART;TZID=UTC:20251205T090000
DTEND;TZID=UTC:20251205T104500
DTSTAMP:20260422T103616
CREATED:20231204T204951Z
LAST-MODIFIED:20260414T201858Z
UID:5240-1764925200-1764931500@astoriahotspringspark.org
SUMMARY:Private River Pool Rental
DESCRIPTION:There will be a private River Pool Rental today! This session is open to the public to enjoy five pools. The river pool and river view deck will be closed due to a private event. \nFor questions\, please call the welcome center at 307-201-5925.
URL:https://astoriahotspringspark.org/event/river-pool-rental-5/2025-12-05/
CATEGORIES:Location: In the Pool,Private Event
END:VEVENT
BEGIN:VEVENT
DTSTART;TZID=UTC:20251123T110000
DTEND;TZID=UTC:20251123T124500
DTSTAMP:20260422T103616
CREATED:20250524T173354Z
LAST-MODIFIED:20260421T191734Z
UID:5217-1763895600-1763901900@astoriahotspringspark.org
SUMMARY:Picnic Pavilion Rental
DESCRIPTION:Private Picnic Pavilion rental today! All pools are open to the public\, but a private event will occur under our picnic pavilion in the hot springs. Please expect a busier environment at the upper pools!
URL:https://astoriahotspringspark.org/event/picnic-pavilion-rental-10/2025-11-23/
CATEGORIES:Location: In the Pool,Private Event
END:VEVENT
BEGIN:VEVENT
DTSTART;TZID=UTC:20251108T090000
DTEND;TZID=UTC:20251108T104500
DTSTAMP:20260422T103616
CREATED:20231204T204951Z
LAST-MODIFIED:20260414T201858Z
UID:4498-1762592400-1762598700@astoriahotspringspark.org
SUMMARY:Private River Pool Rental
DESCRIPTION:There will be a private River Pool Rental today! This session is open to the public to enjoy five pools. The river pool and river view deck will be closed due to a private event. \nFor questions\, please call the welcome center at 307-201-5925.
URL:https://astoriahotspringspark.org/event/river-pool-rental-5/2025-11-08/
CATEGORIES:Location: In the Pool,Private Event
END:VEVENT
BEGIN:VEVENT
DTSTART;TZID=UTC:20251102T110000
DTEND;TZID=UTC:20251102T124500
DTSTAMP:20260422T103616
CREATED:20250524T173354Z
LAST-MODIFIED:20260421T191734Z
UID:4507-1762081200-1762087500@astoriahotspringspark.org
SUMMARY:Picnic Pavilion Rental
DESCRIPTION:Private Picnic Pavilion rental today! All pools are open to the public\, but a private event will occur under our picnic pavilion in the hot springs. Please expect a busier environment at the upper pools!
URL:https://astoriahotspringspark.org/event/picnic-pavilion-rental-10/2025-11-02/
CATEGORIES:Location: In the Pool,Private Event
END:VEVENT
BEGIN:VEVENT
DTSTART;TZID=UTC:20251019T150000
DTEND;TZID=UTC:20251019T164500
DTSTAMP:20260422T103616
CREATED:20231204T204951Z
LAST-MODIFIED:20260414T201858Z
UID:4548-1760886000-1760892300@astoriahotspringspark.org
SUMMARY:Private River Pool Rental
DESCRIPTION:There will be a private River Pool Rental today! This session is open to the public to enjoy five pools. The river pool and river view deck will be closed due to a private event. \nFor questions\, please call the welcome center at 307-201-5925.
URL:https://astoriahotspringspark.org/event/river-pool-rental-5/2025-10-19/
CATEGORIES:Location: In the Pool,Private Event
END:VEVENT
BEGIN:VEVENT
DTSTART;TZID=UTC:20251018T130000
DTEND;TZID=UTC:20251018T144500
DTSTAMP:20260422T103616
CREATED:20231204T204951Z
LAST-MODIFIED:20260414T201857Z
UID:4506-1760792400-1760798700@astoriahotspringspark.org
SUMMARY:Private River Pool Rental
DESCRIPTION:There will be a private River Pool Rental today! This session is open to the public to enjoy five pools. The river pool and river view deck will be closed due to a private event. \nFor questions\, please call the welcome center at 307-201-5925.
URL:https://astoriahotspringspark.org/event/river-pool-rental-5/2025-10-18/
CATEGORIES:Location: In the Pool,Private Event
END:VEVENT
BEGIN:VEVENT
DTSTART;TZID=UTC:20251017T150000
DTEND;TZID=UTC:20251017T164500
DTSTAMP:20260422T103616
CREATED:20231204T204951Z
LAST-MODIFIED:20260414T201857Z
UID:4392-1760713200-1760719500@astoriahotspringspark.org
SUMMARY:Private River Pool Rental
DESCRIPTION:There will be a private River Pool Rental today! This session is open to the public to enjoy five pools. The river pool and river view deck will be closed due to a private event. \nFor questions\, please call the welcome center at 307-201-5925.
URL:https://astoriahotspringspark.org/event/river-pool-rental-5/2025-10-17/
CATEGORIES:Location: In the Pool,Private Event
END:VEVENT
BEGIN:VEVENT
DTSTART;TZID=UTC:20251012T170000
DTEND;TZID=UTC:20251012T184500
DTSTAMP:20260422T103616
CREATED:20231204T192800Z
LAST-MODIFIED:20260318T192023Z
UID:4460-1760288400-1760294700@astoriahotspringspark.org
SUMMARY:PRIVATE HOT SPRINGS BUYOUT
DESCRIPTION:Astoria Hot Springs will be closed to the public for a private event for this session! \nPlease call the Welcome Center with any questions\, 307-201-5925. \n*The Hot Springs is also closed to members during private buyouts. Please plan accordingly to attend another session on this day! *
URL:https://astoriahotspringspark.org/event/private-hot-springs-buyout-5/2025-10-12/
CATEGORIES:Location: In the Pool,Private Event
END:VEVENT
BEGIN:VEVENT
DTSTART;TZID=UTC:20251004T030000
DTEND;TZID=UTC:20251004T164500
DTSTAMP:20260422T103616
CREATED:20231204T192800Z
LAST-MODIFIED:20260318T192022Z
UID:4401-1759546800-1759596300@astoriahotspringspark.org
SUMMARY:PRIVATE HOT SPRINGS BUYOUT
DESCRIPTION:Astoria Hot Springs will be closed to the public for a private event for this session! \nPlease call the Welcome Center with any questions\, 307-201-5925. \n*The Hot Springs is also closed to members during private buyouts. Please plan accordingly to attend another session on this day! *
URL:https://astoriahotspringspark.org/event/private-hot-springs-buyout-5/2025-10-04/
CATEGORIES:Location: In the Pool,Private Event
END:VEVENT
BEGIN:VEVENT
DTSTART;TZID=UTC:20251003T110000
DTEND;TZID=UTC:20251003T124500
DTSTAMP:20260422T103616
CREATED:20231204T204951Z
LAST-MODIFIED:20260414T201857Z
UID:4517-1759489200-1759495500@astoriahotspringspark.org
SUMMARY:Private River Pool Rental
DESCRIPTION:There will be a private River Pool Rental today! This session is open to the public to enjoy five pools. The river pool and river view deck will be closed due to a private event. \nFor questions\, please call the welcome center at 307-201-5925.
URL:https://astoriahotspringspark.org/event/river-pool-rental-5/2025-10-03/
CATEGORIES:Location: In the Pool,Private Event
END:VEVENT
BEGIN:VEVENT
DTSTART;TZID=UTC:20250914T130000
DTEND;TZID=UTC:20250914T144500
DTSTAMP:20260422T103616
CREATED:20250524T173354Z
LAST-MODIFIED:20260421T191734Z
UID:4462-1757854800-1757861100@astoriahotspringspark.org
SUMMARY:Picnic Pavilion Rental
DESCRIPTION:Private Picnic Pavilion rental today! All pools are open to the public\, but a private event will occur under our picnic pavilion in the hot springs. Please expect a busier environment at the upper pools!
URL:https://astoriahotspringspark.org/event/picnic-pavilion-rental-10/2025-09-14/
CATEGORIES:Location: In the Pool,Private Event
END:VEVENT
BEGIN:VEVENT
DTSTART;TZID=UTC:20250913T170000
DTEND;TZID=UTC:20250913T184500
DTSTAMP:20260422T103616
CREATED:20231204T192800Z
LAST-MODIFIED:20260318T192022Z
UID:4458-1757782800-1757789100@astoriahotspringspark.org
SUMMARY:PRIVATE HOT SPRINGS BUYOUT
DESCRIPTION:Astoria Hot Springs will be closed to the public for a private event for this session! \nPlease call the Welcome Center with any questions\, 307-201-5925. \n*The Hot Springs is also closed to members during private buyouts. Please plan accordingly to attend another session on this day! *
URL:https://astoriahotspringspark.org/event/private-hot-springs-buyout-5/2025-09-13/
CATEGORIES:Location: In the Pool,Private Event
END:VEVENT
BEGIN:VEVENT
DTSTART;TZID=UTC:20250911T110000
DTEND;TZID=UTC:20250911T124500
DTSTAMP:20260422T103616
CREATED:20231204T192800Z
LAST-MODIFIED:20260318T192022Z
UID:4039-1757588400-1757594700@astoriahotspringspark.org
SUMMARY:PRIVATE HOT SPRINGS BUYOUT
DESCRIPTION:Astoria Hot Springs will be closed to the public for a private event for this session! \nPlease call the Welcome Center with any questions\, 307-201-5925. \n*The Hot Springs is also closed to members during private buyouts. Please plan accordingly to attend another session on this day! *
URL:https://astoriahotspringspark.org/event/private-hot-springs-buyout-5/2025-09-11/2/
CATEGORIES:Location: In the Pool,Private Event
END:VEVENT
BEGIN:VEVENT
DTSTART;TZID=UTC:20250911T090000
DTEND;TZID=UTC:20250911T230000
DTSTAMP:20260422T103616
CREATED:20231204T192800Z
LAST-MODIFIED:20260318T192022Z
UID:4038-1757581200-1757631600@astoriahotspringspark.org
SUMMARY:PRIVATE HOT SPRINGS BUYOUT
DESCRIPTION:Astoria Hot Springs will be closed to the public for a private event for this session! \nPlease call the Welcome Center with any questions\, 307-201-5925. \n*The Hot Springs is also closed to members during private buyouts. Please plan accordingly to attend another session on this day! *
URL:https://astoriahotspringspark.org/event/private-hot-springs-buyout-5/2025-09-11/
CATEGORIES:Location: In the Pool,Private Event
END:VEVENT
BEGIN:VEVENT
DTSTART;TZID=UTC:20250908T130000
DTEND;TZID=UTC:20250908T144500
DTSTAMP:20260422T103616
CREATED:20231204T192800Z
LAST-MODIFIED:20260318T192022Z
UID:4466-1757336400-1757342700@astoriahotspringspark.org
SUMMARY:PRIVATE HOT SPRINGS BUYOUT
DESCRIPTION:Astoria Hot Springs will be closed to the public for a private event for this session! \nPlease call the Welcome Center with any questions\, 307-201-5925. \n*The Hot Springs is also closed to members during private buyouts. Please plan accordingly to attend another session on this day! *
URL:https://astoriahotspringspark.org/event/private-hot-springs-buyout-5/2025-09-08/
CATEGORIES:Location: In the Pool,Private Event
END:VEVENT
BEGIN:VEVENT
DTSTART;TZID=UTC:20250830T133000
DTEND;TZID=UTC:20250830T153000
DTSTAMP:20260422T103617
CREATED:20231204T204951Z
LAST-MODIFIED:20260414T201856Z
UID:4339-1756560600-1756567800@astoriahotspringspark.org
SUMMARY:Private River Pool Rental
DESCRIPTION:There will be a private River Pool Rental today! This session is open to the public to enjoy five pools. The river pool and river view deck will be closed due to a private event. \nFor questions\, please call the welcome center at 307-201-5925.
URL:https://astoriahotspringspark.org/event/river-pool-rental-5/2025-08-30/
CATEGORIES:Location: In the Pool,Private Event
END:VEVENT
END:VCALENDAR