BEGIN:VCALENDAR
VERSION:2.0
PRODID:-//Astoria Hot Springs Park - ECPv6.15.13//NONSGML v1.0//EN
CALSCALE:GREGORIAN
METHOD:PUBLISH
X-ORIGINAL-URL:https://astoriahotspringspark.org
X-WR-CALDESC:Events for Astoria Hot Springs Park
REFRESH-INTERVAL;VALUE=DURATION:PT1H
X-Robots-Tag:noindex
X-PUBLISHED-TTL:PT1H
BEGIN:VTIMEZONE
TZID:UTC
BEGIN:STANDARD
TZOFFSETFROM:+0000
TZOFFSETTO:+0000
TZNAME:UTC
DTSTART:20220101T000000
END:STANDARD
END:VTIMEZONE
BEGIN:VEVENT
DTSTART;TZID=UTC:20230416T083000
DTEND;TZID=UTC:20230416T090000
DTSTAMP:20260421T235942
CREATED:20230315T215134Z
LAST-MODIFIED:20230315T215134Z
UID:1846-1681633800-1681635600@astoriahotspringspark.org
SUMMARY:Intro to the Cold Plunge
DESCRIPTION:Intro to the Cold Plunge with Medicine Wheel Wellness  \nRegister Today \nEnjoy a hot springs soak while you learn about the benefits of integrating the Cold Plunge into your healing waters practice. Medicine Wheel Wellness practitioner will guide you through Wim Hoff style breathwork\, mindfulness\, and open your adventurous spirit into the cold water to offer the best benefits of a hot/cold water experience. \nMedicine Wheel Cold Plunge intro from 8:30a-9a \nOptional soak included from 9a-11a \nAre our program fees prohibitive to you? Reach out to carolyn@astoriapark.org to learn about our no-questions-asked subsidized pricing policy. \n  \n“When we work together as a collective to offer more options\, greater accessibility\, and more unified care we create a positive shift for the well-being of all people.”
URL:https://astoriahotspringspark.org/event/intro-to-the-cold-plunge-2/2023-04-16/
END:VEVENT
END:VCALENDAR